BEGIN:VCALENDAR
VERSION:2.0
PRODID:-//FC Burlafingen - ECPv6.15.20//NONSGML v1.0//EN
CALSCALE:GREGORIAN
METHOD:PUBLISH
X-ORIGINAL-URL:https://www.fc-burlafingen.de
X-WR-CALDESC:Veranstaltungen für FC Burlafingen
REFRESH-INTERVAL;VALUE=DURATION:PT1H
X-Robots-Tag:noindex
X-PUBLISHED-TTL:PT1H
BEGIN:VTIMEZONE
TZID:Europe/Berlin
BEGIN:DAYLIGHT
TZOFFSETFROM:+0100
TZOFFSETTO:+0200
TZNAME:CEST
DTSTART:20240331T010000
END:DAYLIGHT
BEGIN:STANDARD
TZOFFSETFROM:+0200
TZOFFSETTO:+0100
TZNAME:CET
DTSTART:20241027T010000
END:STANDARD
BEGIN:DAYLIGHT
TZOFFSETFROM:+0100
TZOFFSETTO:+0200
TZNAME:CEST
DTSTART:20250330T010000
END:DAYLIGHT
BEGIN:STANDARD
TZOFFSETFROM:+0200
TZOFFSETTO:+0100
TZNAME:CET
DTSTART:20251026T010000
END:STANDARD
BEGIN:DAYLIGHT
TZOFFSETFROM:+0100
TZOFFSETTO:+0200
TZNAME:CEST
DTSTART:20260329T010000
END:DAYLIGHT
BEGIN:STANDARD
TZOFFSETFROM:+0200
TZOFFSETTO:+0100
TZNAME:CET
DTSTART:20261025T010000
END:STANDARD
END:VTIMEZONE
BEGIN:VEVENT
DTSTART;TZID=Europe/Berlin:20250221T190000
DTEND;TZID=Europe/Berlin:20250221T210000
DTSTAMP:20260422T102202
CREATED:20250120T171334Z
LAST-MODIFIED:20250218T054253Z
UID:1635-1740164400-1740171600@www.fc-burlafingen.de
SUMMARY:Abteilungsversammlung Tennis
DESCRIPTION:Freitag\, 21. Februar 2025 um 19:00 Uhr \nWir laden alle Tennis-Mitglieder herzlich in unser Tennisheim ein! \nTagesordnung:\n• Begrüßung und Bericht des Abteilungsleiters\n• Bericht des Sportwarts\n• Bericht des Jugendleiters\n• Bericht des Kassierers\n• Anträge\n• Wahl des Wahlleiters\n• Entlastung der Abteilungsleitung\n• Neuwahlen Abteilungsausschuss\n• Sonstiges \nAnträge müssen bis spätestens Montag\, 20. Januar 2025 bei der Abteilungsleitung eingegangen sein. \nUnter Anträge ist ein Antrag auf Satzungsänderung eingegangen: \nAnpassung der Fristen für die Einladung der Abteilungsversammlung\, Bekanntmachung und Anträge. Die Fristen der Satzung des Hauptvereins sollen übernommen werden und kommen zur Abstimmung.
URL:https://www.fc-burlafingen.de/event/abteilungsversammlung-tennis-7/
LOCATION:Tennisheim\, Thalfinger Str. 125\, Burlafingen
CATEGORIES:Tennis,Versammlung
END:VEVENT
BEGIN:VEVENT
DTSTART;TZID=Europe/Berlin:20250222T000000
DTEND;TZID=Europe/Berlin:20250224T120000
DTSTAMP:20260422T102202
CREATED:20241120T223833Z
LAST-MODIFIED:20241120T223833Z
UID:1623-1740182400-1740398400@www.fc-burlafingen.de
SUMMARY:Iselhalle gesperrt
DESCRIPTION:Iselhalle wegen anderweitiger Belegung von der Stadt Neu-Ulm (Bundestagswahl) für den Sportbetrieb gesperrt.
URL:https://www.fc-burlafingen.de/event/iselhalle-gesperrt-119/
LOCATION:Iselhalle\, Thalfinger Str. 82\, Neu-Ulm\, 89233\, Deutschland
CATEGORIES:Hallensperre
END:VEVENT
BEGIN:VEVENT
DTSTART;TZID=Europe/Berlin:20250228T140000
DTEND;TZID=Europe/Berlin:20250228T235900
DTSTAMP:20260422T102202
CREATED:20250226T161001Z
LAST-MODIFIED:20250226T161001Z
UID:1656-1740751200-1740787140@www.fc-burlafingen.de
SUMMARY:Iselhalle gesperrt
DESCRIPTION:Iselhalle wegen Aufbau Kinderfasching gesperrt.
URL:https://www.fc-burlafingen.de/event/iselhalle-gesperrt-124/
LOCATION:Iselhalle\, Thalfinger Str. 82\, Neu-Ulm\, 89233\, Deutschland
CATEGORIES:Hallensperre
END:VEVENT
END:VCALENDAR