BEGIN:VCALENDAR
VERSION:2.0
PRODID:-//FC Burlafingen - ECPv6.15.20//NONSGML v1.0//EN
CALSCALE:GREGORIAN
METHOD:PUBLISH
X-ORIGINAL-URL:https://www.fc-burlafingen.de
X-WR-CALDESC:Veranstaltungen für FC Burlafingen
REFRESH-INTERVAL;VALUE=DURATION:PT1H
X-Robots-Tag:noindex
X-PUBLISHED-TTL:PT1H
BEGIN:VTIMEZONE
TZID:Europe/Berlin
BEGIN:DAYLIGHT
TZOFFSETFROM:+0100
TZOFFSETTO:+0200
TZNAME:CEST
DTSTART:20230326T010000
END:DAYLIGHT
BEGIN:STANDARD
TZOFFSETFROM:+0200
TZOFFSETTO:+0100
TZNAME:CET
DTSTART:20231029T010000
END:STANDARD
BEGIN:DAYLIGHT
TZOFFSETFROM:+0100
TZOFFSETTO:+0200
TZNAME:CEST
DTSTART:20240331T010000
END:DAYLIGHT
BEGIN:STANDARD
TZOFFSETFROM:+0200
TZOFFSETTO:+0100
TZNAME:CET
DTSTART:20241027T010000
END:STANDARD
BEGIN:DAYLIGHT
TZOFFSETFROM:+0100
TZOFFSETTO:+0200
TZNAME:CEST
DTSTART:20250330T010000
END:DAYLIGHT
BEGIN:STANDARD
TZOFFSETFROM:+0200
TZOFFSETTO:+0100
TZNAME:CET
DTSTART:20251026T010000
END:STANDARD
END:VTIMEZONE
BEGIN:VEVENT
DTSTART;TZID=Europe/Berlin:20241019T080000
DTEND;TZID=Europe/Berlin:20241019T120000
DTSTAMP:20260422T154149
CREATED:20241009T064917Z
LAST-MODIFIED:20241009T064917Z
UID:1609-1729324800-1729339200@www.fc-burlafingen.de
SUMMARY:Alteisensammlung
DESCRIPTION:am Samstag\, den 19. Oktober 2024 in Burlafingen\nBitte stellen Sie Ihr Material am Samstag ab 8.00 Uhr am Straßenrand bereit. \ngesammelt werden: Schrott\, Blech\, Bunt- u. Edelmetalle\, Waschmaschinen\, E-Herde \nkein Altpapier! \n!!Achtung!! Kühlschränke\, TV- und Radiogeräte sowie Computer dürfen laut Abfallbestimmungen der Stadt Neu-Ulm nicht mitgenommen werden! \nEs bedankt sich die Fußballabteilung vom FCB
URL:https://www.fc-burlafingen.de/event/alteisensammlung-2/
LOCATION:Burlafingen Ortsgebiet\, Neu-Ulm\, 89233
END:VEVENT
END:VCALENDAR