BEGIN:VCALENDAR
VERSION:2.0
PRODID:-//FC Burlafingen - ECPv6.15.20//NONSGML v1.0//EN
CALSCALE:GREGORIAN
METHOD:PUBLISH
X-ORIGINAL-URL:https://www.fc-burlafingen.de
X-WR-CALDESC:Veranstaltungen für FC Burlafingen
REFRESH-INTERVAL;VALUE=DURATION:PT1H
X-Robots-Tag:noindex
X-PUBLISHED-TTL:PT1H
BEGIN:VTIMEZONE
TZID:Europe/Berlin
BEGIN:DAYLIGHT
TZOFFSETFROM:+0100
TZOFFSETTO:+0200
TZNAME:CEST
DTSTART:20250330T010000
END:DAYLIGHT
BEGIN:STANDARD
TZOFFSETFROM:+0200
TZOFFSETTO:+0100
TZNAME:CET
DTSTART:20251026T010000
END:STANDARD
BEGIN:DAYLIGHT
TZOFFSETFROM:+0100
TZOFFSETTO:+0200
TZNAME:CEST
DTSTART:20260329T010000
END:DAYLIGHT
BEGIN:STANDARD
TZOFFSETFROM:+0200
TZOFFSETTO:+0100
TZNAME:CET
DTSTART:20261025T010000
END:STANDARD
BEGIN:DAYLIGHT
TZOFFSETFROM:+0100
TZOFFSETTO:+0200
TZNAME:CEST
DTSTART:20270328T010000
END:DAYLIGHT
BEGIN:STANDARD
TZOFFSETFROM:+0200
TZOFFSETTO:+0100
TZNAME:CET
DTSTART:20271031T010000
END:STANDARD
BEGIN:DAYLIGHT
TZOFFSETFROM:+0100
TZOFFSETTO:+0200
TZNAME:CEST
DTSTART:20280326T010000
END:DAYLIGHT
BEGIN:STANDARD
TZOFFSETFROM:+0200
TZOFFSETTO:+0100
TZNAME:CET
DTSTART:20281029T010000
END:STANDARD
END:VTIMEZONE
BEGIN:VEVENT
DTSTART;TZID=Europe/Berlin:20260425T000000
DTEND;TZID=Europe/Berlin:20260425T160000
DTSTAMP:20260423T120721
CREATED:20250724T051721Z
LAST-MODIFIED:20250724T051721Z
UID:1694-1777075200-1777132800@www.fc-burlafingen.de
SUMMARY:Iselhalle gesperrt
DESCRIPTION:Iselhalle wegen anderweitiger Belegung von der Stadt Neu-Ulm (Prüfungen des Landesfischereiverbands Baden-Württemberg) für den Sportbetrieb gesperrt.
URL:https://www.fc-burlafingen.de/event/iselhalle-gesperrt-129/
LOCATION:Iselhalle\, Thalfinger Str. 82\, Neu-Ulm\, 89233\, Deutschland
CATEGORIES:Hallensperre
END:VEVENT
BEGIN:VEVENT
DTSTART;TZID=Europe/Berlin:20260929T150000
DTEND;TZID=Europe/Berlin:20260930T160000
DTSTAMP:20260423T120721
CREATED:20260119T080207Z
LAST-MODIFIED:20260119T080207Z
UID:1745-1790694000-1790784000@www.fc-burlafingen.de
SUMMARY:Iselhalle gesperrt
DESCRIPTION:Iselhalle wegen anderweitiger Belegung von der Stadt Neu-Ulm (Prüfungen der IHK) für den Sportbetrieb gesperrt.
URL:https://www.fc-burlafingen.de/event/iselhalle-gesperrt-133/
LOCATION:Iselhalle\, Thalfinger Str. 82\, Neu-Ulm\, 89233\, Deutschland
CATEGORIES:Hallensperre
END:VEVENT
BEGIN:VEVENT
DTSTART;TZID=Europe/Berlin:20261104T150000
DTEND;TZID=Europe/Berlin:20261106T150000
DTSTAMP:20260423T120721
CREATED:20250206T124804Z
LAST-MODIFIED:20250206T124804Z
UID:1649-1793804400-1793977200@www.fc-burlafingen.de
SUMMARY:Iselhalle gesperrt
DESCRIPTION:Iselhalle wegen anderweitiger Belegung von der Stadt Neu-Ulm (Prüfungen der IHK) für den Sportbetrieb gesperrt.
URL:https://www.fc-burlafingen.de/event/iselhalle-gesperrt-125/
LOCATION:Iselhalle\, Thalfinger Str. 82\, Neu-Ulm\, 89233\, Deutschland
CATEGORIES:Hallensperre
END:VEVENT
BEGIN:VEVENT
DTSTART;TZID=Europe/Berlin:20261121T000000
DTEND;TZID=Europe/Berlin:20261121T160000
DTSTAMP:20260423T120721
CREATED:20250724T052216Z
LAST-MODIFIED:20250724T052216Z
UID:1696-1795219200-1795276800@www.fc-burlafingen.de
SUMMARY:Iselhalle gesperrt
DESCRIPTION:Iselhalle wegen anderweitiger Belegung von der Stadt Neu-Ulm (Prüfungen des Landesfischgereiverbands Baden-Württemberg) für den Sportbetrieb gesperrt.
URL:https://www.fc-burlafingen.de/event/iselhalle-gesperrt-130/
LOCATION:Iselhalle\, Thalfinger Str. 82\, Neu-Ulm\, 89233\, Deutschland
CATEGORIES:Hallensperre
END:VEVENT
BEGIN:VEVENT
DTSTART;TZID=Europe/Berlin:20270428T000000
DTEND;TZID=Europe/Berlin:20270430T235900
DTSTAMP:20260423T120721
CREATED:20260124T061613Z
LAST-MODIFIED:20260124T061613Z
UID:1750-1808870400-1809129540@www.fc-burlafingen.de
SUMMARY:Iselhalle gesperrt
DESCRIPTION:Iselhalle wegen anderweitiger Belegung von der Stadt Neu-Ulm (Prüfungen der IHK) für den Sportbetrieb gesperrt.
URL:https://www.fc-burlafingen.de/event/iselhalle-gesperrt-135/
LOCATION:Iselhalle\, Thalfinger Str. 82\, Neu-Ulm\, 89233\, Deutschland
CATEGORIES:Hallensperre
END:VEVENT
BEGIN:VEVENT
DTSTART;TZID=Europe/Berlin:20270710T000000
DTEND;TZID=Europe/Berlin:20270711T235900
DTSTAMP:20260423T120721
CREATED:20260124T061849Z
LAST-MODIFIED:20260124T061849Z
UID:1752-1815177600-1815350340@www.fc-burlafingen.de
SUMMARY:Iselhalle gesperrt
DESCRIPTION:Iselhalle wegen anderweitiger Belegung von der Stadt Neu-Ulm (Abiball Humboldt-Gymnasium) für den Sportbetrieb gesperrt.
URL:https://www.fc-burlafingen.de/event/iselhalle-gesperrt-136/
LOCATION:Iselhalle\, Thalfinger Str. 82\, Neu-Ulm\, 89233\, Deutschland
CATEGORIES:Hallensperre
END:VEVENT
BEGIN:VEVENT
DTSTART;TZID=Europe/Berlin:20271020T150000
DTEND;TZID=Europe/Berlin:20271022T150000
DTSTAMP:20260423T120721
CREATED:20260124T061344Z
LAST-MODIFIED:20260124T061344Z
UID:1748-1824044400-1824217200@www.fc-burlafingen.de
SUMMARY:Iselhalle gesperrt
DESCRIPTION:Iselhalle wegen anderweitiger Belegung von der Stadt Neu-Ulm (Prüfungen der IHK) für den Sportbetrieb gesperrt.
URL:https://www.fc-burlafingen.de/event/iselhalle-gesperrt-134/
LOCATION:Iselhalle\, Thalfinger Str. 82\, Neu-Ulm\, 89233\, Deutschland
CATEGORIES:Hallensperre
END:VEVENT
END:VCALENDAR