BEGIN:VCALENDAR
VERSION:2.0
PRODID:-//FC Burlafingen - ECPv6.15.20//NONSGML v1.0//EN
CALSCALE:GREGORIAN
METHOD:PUBLISH
X-WR-CALNAME:FC Burlafingen
X-ORIGINAL-URL:https://www.fc-burlafingen.de
X-WR-CALDESC:Veranstaltungen für FC Burlafingen
REFRESH-INTERVAL;VALUE=DURATION:PT1H
X-Robots-Tag:noindex
X-PUBLISHED-TTL:PT1H
BEGIN:VTIMEZONE
TZID:Europe/Berlin
BEGIN:DAYLIGHT
TZOFFSETFROM:+0100
TZOFFSETTO:+0200
TZNAME:CEST
DTSTART:20230326T010000
END:DAYLIGHT
BEGIN:STANDARD
TZOFFSETFROM:+0200
TZOFFSETTO:+0100
TZNAME:CET
DTSTART:20231029T010000
END:STANDARD
BEGIN:DAYLIGHT
TZOFFSETFROM:+0100
TZOFFSETTO:+0200
TZNAME:CEST
DTSTART:20240331T010000
END:DAYLIGHT
BEGIN:STANDARD
TZOFFSETFROM:+0200
TZOFFSETTO:+0100
TZNAME:CET
DTSTART:20241027T010000
END:STANDARD
BEGIN:DAYLIGHT
TZOFFSETFROM:+0100
TZOFFSETTO:+0200
TZNAME:CEST
DTSTART:20250330T010000
END:DAYLIGHT
BEGIN:STANDARD
TZOFFSETFROM:+0200
TZOFFSETTO:+0100
TZNAME:CET
DTSTART:20251026T010000
END:STANDARD
BEGIN:DAYLIGHT
TZOFFSETFROM:+0100
TZOFFSETTO:+0200
TZNAME:CEST
DTSTART:20260329T010000
END:DAYLIGHT
BEGIN:STANDARD
TZOFFSETFROM:+0200
TZOFFSETTO:+0100
TZNAME:CET
DTSTART:20261025T010000
END:STANDARD
BEGIN:DAYLIGHT
TZOFFSETFROM:+0100
TZOFFSETTO:+0200
TZNAME:CEST
DTSTART:20270328T010000
END:DAYLIGHT
BEGIN:STANDARD
TZOFFSETFROM:+0200
TZOFFSETTO:+0100
TZNAME:CET
DTSTART:20271031T010000
END:STANDARD
END:VTIMEZONE
BEGIN:VEVENT
DTSTART;TZID=Europe/Berlin:20260327T193000
DTEND;TZID=Europe/Berlin:20260327T213000
DTSTAMP:20260423T134218
CREATED:20260222T151834Z
LAST-MODIFIED:20260222T151926Z
UID:1761-1774639800-1774647000@www.fc-burlafingen.de
SUMMARY:Mitgliederversammlung
DESCRIPTION:
URL:https://www.fc-burlafingen.de/event/mitgliederversammlung-7/
LOCATION:Iselstuben\, Thalfinger Str. 82\, Neu-Ulm/Burlafingen\, 89233\, Deutschland
CATEGORIES:Gesamtverein,Versammlung
END:VEVENT
BEGIN:VEVENT
DTSTART;TZID=Europe/Berlin:20260227T190000
DTEND;TZID=Europe/Berlin:20260227T210000
DTSTAMP:20260423T134218
CREATED:20260119T075653Z
LAST-MODIFIED:20260119T075653Z
UID:1741-1772218800-1772226000@www.fc-burlafingen.de
SUMMARY:Abteilungsversammlung Tennis
DESCRIPTION:Tagesordnung: \n\nBegrüßung und Bericht des Abteilungsleiters\nBericht des Sportwarts\nBericht des Jugendleiters\nBericht des Kassierers\nAnträge\nWahl des Wahlleiters\nEntlastung der Abteilungsleitung\nNeuwahlen Abteilungsausschuss\nSonstiges\n\nAnträge müssen bis spätestens 16. Januar 26 bei der Abteilungsleitung eingegangen sein. \nPer Post:\nThalfinger Straße 125\n89233 Neu-Ulm \noder \nPer E-Mail:\ntennis@fc-burlafingen.de
URL:https://www.fc-burlafingen.de/event/abteilungsversammlung-tennis-8/
LOCATION:Tennisheim\, Thalfinger Str. 125\, Burlafingen
CATEGORIES:Tennis,Versammlung
END:VEVENT
BEGIN:VEVENT
DTSTART;TZID=Europe/Berlin:20260224T150000
DTEND;TZID=Europe/Berlin:20260225T160000
DTSTAMP:20260423T134218
CREATED:20260119T075940Z
LAST-MODIFIED:20260119T075940Z
UID:1743-1771945200-1772035200@www.fc-burlafingen.de
SUMMARY:Iselhalle gesperrt
DESCRIPTION:Iselhalle wegen anderweitiger Belegung von der Stadt Neu-Ulm (Prüfungen der IHK) für den Sportbetrieb gesperrt.
URL:https://www.fc-burlafingen.de/event/iselhalle-gesperrt-132/
LOCATION:Iselhalle\, Thalfinger Str. 82\, Neu-Ulm\, 89233\, Deutschland
CATEGORIES:Hallensperre
END:VEVENT
BEGIN:VEVENT
DTSTART;TZID=Europe/Berlin:20260214T160000
DTEND;TZID=Europe/Berlin:20260215T110000
DTSTAMP:20260423T134218
CREATED:20250517T112952Z
LAST-MODIFIED:20250517T112952Z
UID:1668-1771084800-1771153200@www.fc-burlafingen.de
SUMMARY:Iselhalle gesperrt
DESCRIPTION:Iselhalle wegen anderweitiger Belegung von der Stadt Neu-Ulm (Faschingsball italienische Mission) für den Sportbetrieb gesperrt.
URL:https://www.fc-burlafingen.de/event/iselhalle-gesperrt-126/
LOCATION:Iselhalle\, Thalfinger Str. 82\, Neu-Ulm\, 89233\, Deutschland
CATEGORIES:Hallensperre
END:VEVENT
BEGIN:VEVENT
DTSTART;TZID=Europe/Berlin:20260206T200000
DTEND;TZID=Europe/Berlin:20260206T213000
DTSTAMP:20260423T134218
CREATED:20260119T075213Z
LAST-MODIFIED:20260119T075213Z
UID:1738-1770408000-1770413400@www.fc-burlafingen.de
SUMMARY:Abteilungsversammlung Fußball
DESCRIPTION:Eingeladen sind alle Mitglieder der Fußballabteilung. \nVorläufige Tagesordnung \n\nBegrüßung\nTotenehrung\nBericht der Jugendleitung\nBericht der AH-Leitung\nBericht des Spielleiters und Kassenwarts\nBericht der Abteilungsleitung\nAnträge\nWahl des Versammlungs- und Wahlleiters\nEntlastung der Abteilungs-\, Jugend- und AH-Leitung\nNeuwahlen der Abteilungs-\, Jugend- und AH-Leitung\nVerschiedenes\n\nAnträge müssen bis spätestens 23.01.2026 schriftlich bei der Abteilungsleitung\nThalfinger Str. 86\, 89233 Neu-Ulm \noder per E-Mail an\nfussball@fc-burlafingen.de \neingegangen sein.
URL:https://www.fc-burlafingen.de/event/abteilungsversammlung-fussball-6/
LOCATION:Foyer Iselhalle\, Thalfinger Str. 82\, Neu-Ulm\, 89233\, Germany
CATEGORIES:Fußball,Versammlung
END:VEVENT
BEGIN:VEVENT
DTSTART;TZID=Europe/Berlin:20251129T140000
DTEND;TZID=Europe/Berlin:20251129T190000
DTSTAMP:20260423T134218
CREATED:20250724T052815Z
LAST-MODIFIED:20250724T052815Z
UID:1698-1764424800-1764442800@www.fc-burlafingen.de
SUMMARY:Break League
DESCRIPTION:Tanzwettbewerb unserer Street Dance Gruppe
URL:https://www.fc-burlafingen.de/event/break-league/
LOCATION:Iselhalle\, Thalfinger Str. 82\, Neu-Ulm\, 89233\, Deutschland
CATEGORIES:Gymnastik
ATTACH;FMTTYPE=image/jpeg:https://www.fc-burlafingen.de/wp-content/uploads/2025/07/Streetdance_Bild1-1-1024x762-1.jpg
ORGANIZER;CN="Street Dance Gruppe":MAILTO:gymnastik@fc-burlafingen.de
END:VEVENT
BEGIN:VEVENT
DTSTART;TZID=Europe/Berlin:20251124T150000
DTEND;TZID=Europe/Berlin:20251127T083000
DTSTAMP:20260423T134218
CREATED:20250121T090628Z
LAST-MODIFIED:20250121T090628Z
UID:1642-1763996400-1764232200@www.fc-burlafingen.de
SUMMARY:Iselhalle gesperrt
DESCRIPTION:Iselhalle wegen anderweitiger Belegung von der Stadt Neu-Ulm (Prüfungen der IHK) für den Sportbetrieb gesperrt.
URL:https://www.fc-burlafingen.de/event/iselhalle-gesperrt-123/
LOCATION:Iselhalle\, Thalfinger Str. 82\, Neu-Ulm\, 89233\, Deutschland
CATEGORIES:Hallensperre
END:VEVENT
BEGIN:VEVENT
DTSTART;TZID=Europe/Berlin:20251119T150000
DTEND;TZID=Europe/Berlin:20251121T150000
DTSTAMP:20260423T134218
CREATED:20240203T073400Z
LAST-MODIFIED:20241010T083106Z
UID:1514-1763564400-1763737200@www.fc-burlafingen.de
SUMMARY:Iselhalle gesperrt
DESCRIPTION:Iselhalle wegen anderweitiger Belegung von der Stadt Neu-Ulm (Prüfungen der IHK) für den Sportbetrieb gesperrt.
URL:https://www.fc-burlafingen.de/event/iselhalle-gesperrt-108/
LOCATION:Iselhalle\, Thalfinger Str. 82\, Neu-Ulm\, 89233\, Deutschland
CATEGORIES:Hallensperre
END:VEVENT
BEGIN:VEVENT
DTSTART;TZID=Europe/Berlin:20251104T150000
DTEND;TZID=Europe/Berlin:20251106T170000
DTSTAMP:20260423T134218
CREATED:20250522T054205Z
LAST-MODIFIED:20250522T054205Z
UID:1670-1762268400-1762448400@www.fc-burlafingen.de
SUMMARY:Iselhalle gesperrt
DESCRIPTION:Iselhalle wegen anderweitiger Belegung von der Stadt Neu-Ulm (Prüfungen der IHK) für den Sportbetrieb gesperrt.
URL:https://www.fc-burlafingen.de/event/iselhalle-gesperrt-127/
LOCATION:Iselhalle\, Thalfinger Str. 82\, Neu-Ulm\, 89233\, Deutschland
CATEGORIES:Hallensperre
END:VEVENT
BEGIN:VEVENT
DTSTART;TZID=Europe/Berlin:20251007T160000
DTEND;TZID=Europe/Berlin:20251008T110000
DTSTAMP:20260423T134218
CREATED:20241202T141137Z
LAST-MODIFIED:20241202T141137Z
UID:1627-1759852800-1759921200@www.fc-burlafingen.de
SUMMARY:Iselhalle gesperrt
DESCRIPTION:Iselhalle wegen anderweitiger Belegung von der Stadt Neu-Ulm (Bürgerversammlung) für den Sportbetrieb gesperrt.
URL:https://www.fc-burlafingen.de/event/iselhalle-gesperrt-120/
LOCATION:Iselhalle\, Thalfinger Str. 82\, Neu-Ulm\, 89233\, Deutschland
CATEGORIES:Hallensperre
END:VEVENT
BEGIN:VEVENT
DTSTART;TZID=Europe/Berlin:20250924T150000
DTEND;TZID=Europe/Berlin:20250924T235900
DTSTAMP:20260423T134218
CREATED:20250829T114245Z
LAST-MODIFIED:20250829T114245Z
UID:1720-1758726000-1758758340@www.fc-burlafingen.de
SUMMARY:Iselhalle gesperrt
DESCRIPTION:Iselhalle wegen anderweitiger Belegung von der Stadt Neu-Ulm (Elternabend Städtisches Kinderhaus) für den Sportbetrieb gesperrt.
URL:https://www.fc-burlafingen.de/event/iselhalle-gesperrt-131/
LOCATION:Iselhalle\, Thalfinger Str. 82\, Neu-Ulm\, 89233\, Deutschland
CATEGORIES:Hallensperre
END:VEVENT
BEGIN:VEVENT
DTSTART;TZID=Europe/Berlin:20250916T140000
DTEND;TZID=Europe/Berlin:20250917T160000
DTSTAMP:20260423T134218
CREATED:20250723T052620Z
LAST-MODIFIED:20250723T053625Z
UID:1692-1758031200-1758124800@www.fc-burlafingen.de
SUMMARY:Iselhalle gesperrt
DESCRIPTION:Iselhalle wegen anderweitiger Belegung von der Stadt Neu-Ulm (Prüfungen der IHK) für den Sportbetrieb gesperrt.
URL:https://www.fc-burlafingen.de/event/iselhalle-gesperrt-128/
LOCATION:Iselhalle\, Thalfinger Str. 82\, Neu-Ulm\, 89233\, Deutschland
CATEGORIES:Hallensperre
END:VEVENT
BEGIN:VEVENT
DTSTART;TZID=Europe/Berlin:20250502T000000
DTEND;TZID=Europe/Berlin:20250508T093000
DTSTAMP:20260423T134218
CREATED:20250121T090242Z
LAST-MODIFIED:20250430T060613Z
UID:1640-1746144000-1746696600@www.fc-burlafingen.de
SUMMARY:Iselhalle gesperrt
DESCRIPTION:Iselhalle wegen anderweitiger Belegung von der Stadt Neu-Ulm (Prüfungen der IHK) für den Sportbetrieb gesperrt.
URL:https://www.fc-burlafingen.de/event/iselhalle-gesperrt-122/
LOCATION:Iselhalle\, Thalfinger Str. 82\, Neu-Ulm\, 89233\, Deutschland
CATEGORIES:Hallensperre
END:VEVENT
BEGIN:VEVENT
DTSTART;TZID=Europe/Berlin:20250428T150000
DTEND;TZID=Europe/Berlin:20250430T163000
DTSTAMP:20260423T134218
CREATED:20240203T073230Z
LAST-MODIFIED:20241010T082920Z
UID:1512-1745852400-1746030600@www.fc-burlafingen.de
SUMMARY:Iselhalle gesperrt
DESCRIPTION:Iselhalle wegen anderweitiger Belegung von der Stadt Neu-Ulm (Prüfungen der IHK) für den Sportbetrieb gesperrt.
URL:https://www.fc-burlafingen.de/event/iselhalle-gesperrt-107/
LOCATION:Iselhalle\, Thalfinger Str. 82\, Neu-Ulm\, 89233\, Deutschland
CATEGORIES:Hallensperre
END:VEVENT
BEGIN:VEVENT
DTSTART;TZID=Europe/Berlin:20250324T150000
DTEND;TZID=Europe/Berlin:20250325T170000
DTSTAMP:20260423T134218
CREATED:20250120T172823Z
LAST-MODIFIED:20250121T090754Z
UID:1637-1742828400-1742922000@www.fc-burlafingen.de
SUMMARY:Iselhalle gesperrt
DESCRIPTION:Iselhalle wegen anderweitiger Belegung von der Stadt Neu-Ulm (Prüfungen der IHK) für den Sportbetrieb gesperrt.
URL:https://www.fc-burlafingen.de/event/iselhalle-gesperrt-121/
LOCATION:Iselhalle\, Thalfinger Str. 82\, Neu-Ulm\, 89233\, Deutschland
CATEGORIES:Hallensperre
END:VEVENT
BEGIN:VEVENT
DTSTART;VALUE=DATE:20250301
DTEND;VALUE=DATE:20250302
DTSTAMP:20260423T134218
CREATED:20241120T223702Z
LAST-MODIFIED:20241120T223702Z
UID:1621-1740787200-1740873599@www.fc-burlafingen.de
SUMMARY:Iselhalle gesperrt
DESCRIPTION:Iselhalle wegen anderweitiger Belegung von der Stadt Neu-Ulm (Faschingsfeier der italienischen Mission) für den Sportbetrieb gesperrt.
URL:https://www.fc-burlafingen.de/event/iselhalle-gesperrt-118/
LOCATION:Iselhalle\, Thalfinger Str. 82\, Neu-Ulm\, 89233\, Deutschland
CATEGORIES:Hallensperre
END:VEVENT
BEGIN:VEVENT
DTSTART;TZID=Europe/Berlin:20250228T140000
DTEND;TZID=Europe/Berlin:20250228T235900
DTSTAMP:20260423T134218
CREATED:20250226T161001Z
LAST-MODIFIED:20250226T161001Z
UID:1656-1740751200-1740787140@www.fc-burlafingen.de
SUMMARY:Iselhalle gesperrt
DESCRIPTION:Iselhalle wegen Aufbau Kinderfasching gesperrt.
URL:https://www.fc-burlafingen.de/event/iselhalle-gesperrt-124/
LOCATION:Iselhalle\, Thalfinger Str. 82\, Neu-Ulm\, 89233\, Deutschland
CATEGORIES:Hallensperre
END:VEVENT
BEGIN:VEVENT
DTSTART;TZID=Europe/Berlin:20250222T000000
DTEND;TZID=Europe/Berlin:20250224T120000
DTSTAMP:20260423T134218
CREATED:20241120T223833Z
LAST-MODIFIED:20241120T223833Z
UID:1623-1740182400-1740398400@www.fc-burlafingen.de
SUMMARY:Iselhalle gesperrt
DESCRIPTION:Iselhalle wegen anderweitiger Belegung von der Stadt Neu-Ulm (Bundestagswahl) für den Sportbetrieb gesperrt.
URL:https://www.fc-burlafingen.de/event/iselhalle-gesperrt-119/
LOCATION:Iselhalle\, Thalfinger Str. 82\, Neu-Ulm\, 89233\, Deutschland
CATEGORIES:Hallensperre
END:VEVENT
BEGIN:VEVENT
DTSTART;TZID=Europe/Berlin:20250221T190000
DTEND;TZID=Europe/Berlin:20250221T210000
DTSTAMP:20260423T134218
CREATED:20250120T171334Z
LAST-MODIFIED:20250218T054253Z
UID:1635-1740164400-1740171600@www.fc-burlafingen.de
SUMMARY:Abteilungsversammlung Tennis
DESCRIPTION:Freitag\, 21. Februar 2025 um 19:00 Uhr \nWir laden alle Tennis-Mitglieder herzlich in unser Tennisheim ein! \nTagesordnung:\n• Begrüßung und Bericht des Abteilungsleiters\n• Bericht des Sportwarts\n• Bericht des Jugendleiters\n• Bericht des Kassierers\n• Anträge\n• Wahl des Wahlleiters\n• Entlastung der Abteilungsleitung\n• Neuwahlen Abteilungsausschuss\n• Sonstiges \nAnträge müssen bis spätestens Montag\, 20. Januar 2025 bei der Abteilungsleitung eingegangen sein. \nUnter Anträge ist ein Antrag auf Satzungsänderung eingegangen: \nAnpassung der Fristen für die Einladung der Abteilungsversammlung\, Bekanntmachung und Anträge. Die Fristen der Satzung des Hauptvereins sollen übernommen werden und kommen zur Abstimmung.
URL:https://www.fc-burlafingen.de/event/abteilungsversammlung-tennis-7/
LOCATION:Tennisheim\, Thalfinger Str. 125\, Burlafingen
CATEGORIES:Tennis,Versammlung
END:VEVENT
BEGIN:VEVENT
DTSTART;TZID=Europe/Berlin:20250131T200000
DTEND;TZID=Europe/Berlin:20250131T220000
DTSTAMP:20260423T134218
CREATED:20241206T040343Z
LAST-MODIFIED:20250120T164241Z
UID:1629-1738353600-1738360800@www.fc-burlafingen.de
SUMMARY:Abteilungsversammlung Fußball
DESCRIPTION:Abteilungsversammlung der Fußballabteilung \nam Freitag\, 31. Januar 2025 um 20:00 Uhr \nIselstuben\, Thalfinger Str. 82\, 89233 Neu-Ulm Burlafingen \nEingeladen sind alle Mitglieder der Fußballabteilung. \nTagesordnung:\n\nBegrüßung\nBericht der Jugendleitung\nBericht der AH-Leitung\nBericht der/des Spielleitung / Kassenwarts\nBericht der Abteilungsleitung\nAnträge *\nWahl des Versammlungs- und Wahlleiters\nEntlastung der Abteilungs-\, Jugendleitung\nNeuwahlen der Abteilungs-\, Jugend- und AH-Leitung\nVerschiedenes\n\n* Bis zur Ausschlussfrist am 17.01.2025 sind keine Anträge bei der Abteilungsleitung eingegangen.
URL:https://www.fc-burlafingen.de/event/abteilungsversammlung-fussball-5/
LOCATION:Iselstuben\, Thalfinger Str. 82\, Neu-Ulm/Burlafingen\, 89233\, Deutschland
CATEGORIES:Fußball,Versammlung
END:VEVENT
BEGIN:VEVENT
DTSTART;TZID=Europe/Berlin:20241120T150000
DTEND;TZID=Europe/Berlin:20241122T130000
DTSTAMP:20260423T134218
CREATED:20230914T055210Z
LAST-MODIFIED:20230914T055210Z
UID:1443-1732114800-1732280400@www.fc-burlafingen.de
SUMMARY:Iselhalle gesperrt
DESCRIPTION:Iselhalle wegen anderweitiger Belegung von der Stadt Neu-Ulm (Prüfungen der IHK) für den Sportbetrieb gesperrt.
URL:https://www.fc-burlafingen.de/event/iselhalle-gesperrt-98/
LOCATION:Iselhalle\, Thalfinger Str. 82\, Neu-Ulm\, 89233\, Deutschland
CATEGORIES:Hallensperre
END:VEVENT
BEGIN:VEVENT
DTSTART;TZID=Europe/Berlin:20241115T150000
DTEND;TZID=Europe/Berlin:20241116T140000
DTSTAMP:20260423T134218
CREATED:20240704T054356Z
LAST-MODIFIED:20241101T052839Z
UID:1597-1731682800-1731765600@www.fc-burlafingen.de
SUMMARY:Iselhalle gesperrt
DESCRIPTION:Iselhalle wegen anderweitiger Belegung von der Stadt Neu-Ulm (Fischerprüfungen) für den Sportbetrieb gesperrt.
URL:https://www.fc-burlafingen.de/event/iselhalle-gesperrt-117/
LOCATION:Iselhalle\, Thalfinger Str. 82\, Neu-Ulm\, 89233\, Deutschland
CATEGORIES:Hallensperre
END:VEVENT
BEGIN:VEVENT
DTSTART;TZID=Europe/Berlin:20241105T150000
DTEND;TZID=Europe/Berlin:20241107T235900
DTSTAMP:20260423T134218
CREATED:20230914T055034Z
LAST-MODIFIED:20231226T195131Z
UID:1441-1730818800-1731023940@www.fc-burlafingen.de
SUMMARY:Iselhalle gesperrt
DESCRIPTION:Iselhalle wegen anderweitiger Belegung von der Stadt Neu-Ulm (Prüfungen der IHK) für den Sportbetrieb gesperrt.
URL:https://www.fc-burlafingen.de/event/iselhalle-gesperrt-97/
LOCATION:Iselhalle\, Thalfinger Str. 82\, Neu-Ulm\, 89233\, Deutschland
CATEGORIES:Hallensperre
END:VEVENT
BEGIN:VEVENT
DTSTART;TZID=Europe/Berlin:20241019T080000
DTEND;TZID=Europe/Berlin:20241019T120000
DTSTAMP:20260423T134218
CREATED:20241009T064917Z
LAST-MODIFIED:20241009T064917Z
UID:1609-1729324800-1729339200@www.fc-burlafingen.de
SUMMARY:Alteisensammlung
DESCRIPTION:am Samstag\, den 19. Oktober 2024 in Burlafingen\nBitte stellen Sie Ihr Material am Samstag ab 8.00 Uhr am Straßenrand bereit. \ngesammelt werden: Schrott\, Blech\, Bunt- u. Edelmetalle\, Waschmaschinen\, E-Herde \nkein Altpapier! \n!!Achtung!! Kühlschränke\, TV- und Radiogeräte sowie Computer dürfen laut Abfallbestimmungen der Stadt Neu-Ulm nicht mitgenommen werden! \nEs bedankt sich die Fußballabteilung vom FCB
URL:https://www.fc-burlafingen.de/event/alteisensammlung-2/
LOCATION:Burlafingen Ortsgebiet\, Neu-Ulm\, 89233
END:VEVENT
BEGIN:VEVENT
DTSTART;TZID=Europe/Berlin:20240915T140000
DTEND;TZID=Europe/Berlin:20240916T170000
DTSTAMP:20260423T134218
CREATED:20240704T054243Z
LAST-MODIFIED:20241009T064454Z
UID:1595-1726408800-1726506000@www.fc-burlafingen.de
SUMMARY:Iselhalle gesperrt
DESCRIPTION:Iselhalle wegen anderweitiger Belegung von der Stadt Neu-Ulm (Prüfungen der IHK) für den Sportbetrieb gesperrt.
URL:https://www.fc-burlafingen.de/event/iselhalle-gesperrt-116/
LOCATION:Iselhalle\, Thalfinger Str. 82\, Neu-Ulm\, 89233\, Deutschland
CATEGORIES:Hallensperre
END:VEVENT
BEGIN:VEVENT
DTSTART;TZID=Europe/Berlin:20240717T190000
DTEND;TZID=Europe/Berlin:20240719T235900
DTSTAMP:20260423T134218
CREATED:20231226T195300Z
LAST-MODIFIED:20231226T195402Z
UID:1494-1721242800-1721433540@www.fc-burlafingen.de
SUMMARY:Iselhalle gesperrt
DESCRIPTION:Iselhalle wegen anderweitiger Belegung von der Stadt Neu-Ulm (Prüfungen der Handwerkskammer) für den Sportbetrieb gesperrt.
URL:https://www.fc-burlafingen.de/event/iselhalle-gesperrt-106/
LOCATION:Iselhalle\, Thalfinger Str. 82\, Neu-Ulm\, 89233\, Deutschland
CATEGORIES:Hallensperre
END:VEVENT
BEGIN:VEVENT
DTSTART;TZID=Europe/Berlin:20240710T150000
DTEND;TZID=Europe/Berlin:20240712T235900
DTSTAMP:20260423T134218
CREATED:20240111T062650Z
LAST-MODIFIED:20240111T062903Z
UID:1499-1720623600-1720828740@www.fc-burlafingen.de
SUMMARY:Iselhalle gesperrt
DESCRIPTION:Iselhalle wegen anderweitiger Belegung von der Stadt Neu-Ulm für den Sportbetrieb gesperrt.
URL:https://www.fc-burlafingen.de/event/iselhalle-gesperrt-100/
LOCATION:Iselhalle\, Thalfinger Str. 82\, Neu-Ulm\, 89233\, Deutschland
CATEGORIES:Hallensperre
END:VEVENT
BEGIN:VEVENT
DTSTART;TZID=Europe/Berlin:20240619T190000
DTEND;TZID=Europe/Berlin:20240622T235900
DTSTAMP:20260423T134218
CREATED:20231027T115513Z
LAST-MODIFIED:20231226T195039Z
UID:1479-1718823600-1719100740@www.fc-burlafingen.de
SUMMARY:Iselhalle gesperrt
DESCRIPTION:Iselhalle wegen anderweitiger Belegung von der Stadt Neu-Ulm (Prüfungen der Handwerkskammer) für den Sportbetrieb gesperrt.
URL:https://www.fc-burlafingen.de/event/iselhalle-gesperrt-104/
LOCATION:Iselhalle\, Thalfinger Str. 82\, Neu-Ulm\, 89233\, Deutschland
CATEGORIES:Hallensperre
END:VEVENT
BEGIN:VEVENT
DTSTART;TZID=Europe/Berlin:20240611T160000
DTEND;TZID=Europe/Berlin:20240615T173000
DTSTAMP:20260423T134218
CREATED:20240428T084340Z
LAST-MODIFIED:20240428T084340Z
UID:1590-1718121600-1718472600@www.fc-burlafingen.de
SUMMARY:Iselhalle gesperrt
DESCRIPTION:Iselhalle wegen anderweitiger Belegung von der Stadt Neu-Ulm (Prüfungen der HWK) für den Sportbetrieb gesperrt.
URL:https://www.fc-burlafingen.de/event/iselhalle-gesperrt-115/
LOCATION:Iselhalle\, Thalfinger Str. 82\, Neu-Ulm\, 89233\, Deutschland
CATEGORIES:Hallensperre
END:VEVENT
BEGIN:VEVENT
DTSTART;TZID=Europe/Berlin:20240610T190000
DTEND;TZID=Europe/Berlin:20240612T235900
DTSTAMP:20260423T134218
CREATED:20240308T020609Z
LAST-MODIFIED:20240308T020609Z
UID:1545-1718046000-1718236740@www.fc-burlafingen.de
SUMMARY:Iselhalle gesperrt
DESCRIPTION:Iselhalle wegen anderweitiger Belegung von der Stadt Neu-Ulm (Prüfungen der Handwerkskammer) für den Sportbetrieb gesperrt.
URL:https://www.fc-burlafingen.de/event/iselhalle-gesperrt-110/
LOCATION:Iselhalle\, Thalfinger Str. 82\, Neu-Ulm\, 89233\, Deutschland
CATEGORIES:Hallensperre
END:VEVENT
END:VCALENDAR