BEGIN:VCALENDAR
VERSION:2.0
PRODID:-//FC Burlafingen - ECPv6.15.20//NONSGML v1.0//EN
CALSCALE:GREGORIAN
METHOD:PUBLISH
X-WR-CALNAME:FC Burlafingen
X-ORIGINAL-URL:https://www.fc-burlafingen.de
X-WR-CALDESC:Veranstaltungen für FC Burlafingen
REFRESH-INTERVAL;VALUE=DURATION:PT1H
X-Robots-Tag:noindex
X-PUBLISHED-TTL:PT1H
BEGIN:VTIMEZONE
TZID:Europe/Berlin
BEGIN:DAYLIGHT
TZOFFSETFROM:+0100
TZOFFSETTO:+0200
TZNAME:CEST
DTSTART:20250330T010000
END:DAYLIGHT
BEGIN:STANDARD
TZOFFSETFROM:+0200
TZOFFSETTO:+0100
TZNAME:CET
DTSTART:20251026T010000
END:STANDARD
BEGIN:DAYLIGHT
TZOFFSETFROM:+0100
TZOFFSETTO:+0200
TZNAME:CEST
DTSTART:20260329T010000
END:DAYLIGHT
BEGIN:STANDARD
TZOFFSETFROM:+0200
TZOFFSETTO:+0100
TZNAME:CET
DTSTART:20261025T010000
END:STANDARD
BEGIN:DAYLIGHT
TZOFFSETFROM:+0100
TZOFFSETTO:+0200
TZNAME:CEST
DTSTART:20270328T010000
END:DAYLIGHT
BEGIN:STANDARD
TZOFFSETFROM:+0200
TZOFFSETTO:+0100
TZNAME:CET
DTSTART:20271031T010000
END:STANDARD
END:VTIMEZONE
BEGIN:VEVENT
DTSTART;TZID=Europe/Berlin:20260227T190000
DTEND;TZID=Europe/Berlin:20260227T210000
DTSTAMP:20260421T144334
CREATED:20260119T075653Z
LAST-MODIFIED:20260119T075653Z
UID:1741-1772218800-1772226000@www.fc-burlafingen.de
SUMMARY:Abteilungsversammlung Tennis
DESCRIPTION:Tagesordnung: \n\nBegrüßung und Bericht des Abteilungsleiters\nBericht des Sportwarts\nBericht des Jugendleiters\nBericht des Kassierers\nAnträge\nWahl des Wahlleiters\nEntlastung der Abteilungsleitung\nNeuwahlen Abteilungsausschuss\nSonstiges\n\nAnträge müssen bis spätestens 16. Januar 26 bei der Abteilungsleitung eingegangen sein. \nPer Post:\nThalfinger Straße 125\n89233 Neu-Ulm \noder \nPer E-Mail:\ntennis@fc-burlafingen.de
URL:https://www.fc-burlafingen.de/event/abteilungsversammlung-tennis-8/
LOCATION:Tennisheim\, Thalfinger Str. 125\, Burlafingen
CATEGORIES:Tennis,Versammlung
END:VEVENT
END:VCALENDAR