BEGIN:VCALENDAR
VERSION:2.0
PRODID:-//FC Burlafingen - ECPv6.15.20//NONSGML v1.0//EN
CALSCALE:GREGORIAN
METHOD:PUBLISH
X-WR-CALNAME:FC Burlafingen
X-ORIGINAL-URL:https://www.fc-burlafingen.de
X-WR-CALDESC:Veranstaltungen für FC Burlafingen
REFRESH-INTERVAL;VALUE=DURATION:PT1H
X-Robots-Tag:noindex
X-PUBLISHED-TTL:PT1H
BEGIN:VTIMEZONE
TZID:Europe/Berlin
BEGIN:DAYLIGHT
TZOFFSETFROM:+0100
TZOFFSETTO:+0200
TZNAME:CEST
DTSTART:20240331T010000
END:DAYLIGHT
BEGIN:STANDARD
TZOFFSETFROM:+0200
TZOFFSETTO:+0100
TZNAME:CET
DTSTART:20241027T010000
END:STANDARD
BEGIN:DAYLIGHT
TZOFFSETFROM:+0100
TZOFFSETTO:+0200
TZNAME:CEST
DTSTART:20250330T010000
END:DAYLIGHT
BEGIN:STANDARD
TZOFFSETFROM:+0200
TZOFFSETTO:+0100
TZNAME:CET
DTSTART:20251026T010000
END:STANDARD
BEGIN:DAYLIGHT
TZOFFSETFROM:+0100
TZOFFSETTO:+0200
TZNAME:CEST
DTSTART:20260329T010000
END:DAYLIGHT
BEGIN:STANDARD
TZOFFSETFROM:+0200
TZOFFSETTO:+0100
TZNAME:CET
DTSTART:20261025T010000
END:STANDARD
END:VTIMEZONE
BEGIN:VEVENT
DTSTART;TZID=Europe/Berlin:20251129T140000
DTEND;TZID=Europe/Berlin:20251129T190000
DTSTAMP:20260421T204239
CREATED:20250724T052815Z
LAST-MODIFIED:20250724T052815Z
UID:1698-1764424800-1764442800@www.fc-burlafingen.de
SUMMARY:Break League
DESCRIPTION:Tanzwettbewerb unserer Street Dance Gruppe
URL:https://www.fc-burlafingen.de/event/break-league/
LOCATION:Iselhalle\, Thalfinger Str. 82\, Neu-Ulm\, 89233\, Deutschland
CATEGORIES:Gymnastik
ATTACH;FMTTYPE=image/jpeg:https://www.fc-burlafingen.de/wp-content/uploads/2025/07/Streetdance_Bild1-1-1024x762-1.jpg
ORGANIZER;CN="Street Dance Gruppe":MAILTO:gymnastik@fc-burlafingen.de
END:VEVENT
END:VCALENDAR