BEGIN:VCALENDAR
VERSION:2.0
PRODID:-//FC Burlafingen - ECPv6.15.20//NONSGML v1.0//EN
CALSCALE:GREGORIAN
METHOD:PUBLISH
X-ORIGINAL-URL:https://www.fc-burlafingen.de
X-WR-CALDESC:Veranstaltungen für FC Burlafingen
REFRESH-INTERVAL;VALUE=DURATION:PT1H
X-Robots-Tag:noindex
X-PUBLISHED-TTL:PT1H
BEGIN:VTIMEZONE
TZID:Europe/Berlin
BEGIN:DAYLIGHT
TZOFFSETFROM:+0100
TZOFFSETTO:+0200
TZNAME:CEST
DTSTART:20240331T010000
END:DAYLIGHT
BEGIN:STANDARD
TZOFFSETFROM:+0200
TZOFFSETTO:+0100
TZNAME:CET
DTSTART:20241027T010000
END:STANDARD
BEGIN:DAYLIGHT
TZOFFSETFROM:+0100
TZOFFSETTO:+0200
TZNAME:CEST
DTSTART:20250330T010000
END:DAYLIGHT
BEGIN:STANDARD
TZOFFSETFROM:+0200
TZOFFSETTO:+0100
TZNAME:CET
DTSTART:20251026T010000
END:STANDARD
BEGIN:DAYLIGHT
TZOFFSETFROM:+0100
TZOFFSETTO:+0200
TZNAME:CEST
DTSTART:20260329T010000
END:DAYLIGHT
BEGIN:STANDARD
TZOFFSETFROM:+0200
TZOFFSETTO:+0100
TZNAME:CET
DTSTART:20261025T010000
END:STANDARD
END:VTIMEZONE
BEGIN:VEVENT
DTSTART;TZID=Europe/Berlin:20250131T200000
DTEND;TZID=Europe/Berlin:20250131T220000
DTSTAMP:20260422T101950
CREATED:20241206T040343Z
LAST-MODIFIED:20250120T164241Z
UID:1629-1738353600-1738360800@www.fc-burlafingen.de
SUMMARY:Abteilungsversammlung Fußball
DESCRIPTION:Abteilungsversammlung der Fußballabteilung \nam Freitag\, 31. Januar 2025 um 20:00 Uhr \nIselstuben\, Thalfinger Str. 82\, 89233 Neu-Ulm Burlafingen \nEingeladen sind alle Mitglieder der Fußballabteilung. \nTagesordnung:\n\nBegrüßung\nBericht der Jugendleitung\nBericht der AH-Leitung\nBericht der/des Spielleitung / Kassenwarts\nBericht der Abteilungsleitung\nAnträge *\nWahl des Versammlungs- und Wahlleiters\nEntlastung der Abteilungs-\, Jugendleitung\nNeuwahlen der Abteilungs-\, Jugend- und AH-Leitung\nVerschiedenes\n\n* Bis zur Ausschlussfrist am 17.01.2025 sind keine Anträge bei der Abteilungsleitung eingegangen.
URL:https://www.fc-burlafingen.de/event/abteilungsversammlung-fussball-5/
LOCATION:Iselstuben\, Thalfinger Str. 82\, Neu-Ulm/Burlafingen\, 89233\, Deutschland
CATEGORIES:Fußball,Versammlung
END:VEVENT
END:VCALENDAR